BEGIN:VCALENDAR
VERSION:2.0
PRODID:-//Tukios.com/
BEGIN:VEVENT
UID:d4415913-5453-4239-a2c3-7a84ba0d25f9@www.westcobbfuneralhome.com
DTSTAMP:20260419T201657Z
DTSTART:20260423T150000Z
DTEND:20260423T160000Z
SUMMARY:Graveside Service
DESCRIPTION:
URL:https://www.westcobbfuneralhome.com/obituaries/theadore-gentry
LOCATION:Riverview Cemetery 1701 Chesapeake Street  Charlottesville VA 
	22902
GEO:38.0253635;-78.4588539
END:VEVENT
END:VCALENDAR