BEGIN:VCALENDAR
VERSION:2.0
PRODID:-//Tukios.com/
BEGIN:VEVENT
UID:1550537b-8b64-49e5-8b3c-8fe457d675ae@www.westcobbfuneralhome.com
DTSTAMP:20260425T202614Z
DTSTART:20260429T180000Z
DTEND:20260429T190000Z
SUMMARY:Funeral Service
DESCRIPTION:
URL:https://www.westcobbfuneralhome.com/obituaries/nancy-dunn
LOCATION:First Baptist Church of Powder Springs 4330 North Ave  Powder 
	Springs GA 30127
GEO:33.8597209;-84.6803487
END:VEVENT
END:VCALENDAR