BEGIN:VCALENDAR
VERSION:2.0
PRODID:-//Tukios.com/
BEGIN:VEVENT
UID:0a979737-2e05-449b-9502-719b0c4188df@www.westcobbfuneralhome.com
DTSTAMP:20260425T203217Z
DTSTART:20260429T170000Z
DTEND:20260429T180000Z
SUMMARY:Visitation
DESCRIPTION:
URL:https://www.westcobbfuneralhome.com/obituaries/nancy-dunn
LOCATION:First Baptist Church of Powder Springs 4330 North Ave  Powder 
	Springs GA 30127
GEO:33.8597209;-84.6803487
END:VEVENT
END:VCALENDAR