BEGIN:VCALENDAR
VERSION:2.0
PRODID:-//Tukios.com/
BEGIN:VEVENT
UID:36d1905c-ee7b-44be-b999-4662ae0ea3a6@www.westcobbfuneralhome.com
DTSTAMP:20260424T205002Z
DTSTART:20260501T210000Z
DTEND:20260502T000000Z
SUMMARY:Visitation
DESCRIPTION:
URL:https://www.westcobbfuneralhome.com/obituaries/maria-sorinolu-famuyiwa
LOCATION:West Cobb Funeral Home and Crematory 2480 Macland Rd Sw  
	Marietta GA 30064
GEO:33.9011974;-84.6255664
END:VEVENT
END:VCALENDAR