BEGIN:VCALENDAR
VERSION:2.0
PRODID:-//Tukios.com/
BEGIN:VEVENT
UID:bda18a17-c7dd-426e-acd4-2302651ce6ed@www.westcobbfuneralhome.com
DTSTAMP:20260424T204434Z
DTSTART:20260502T140000Z
DTEND:20260502T150000Z
SUMMARY:Funeral Service
DESCRIPTION:
URL:https://www.westcobbfuneralhome.com/obituaries/maria-sorinolu-famuyiwa
LOCATION:West Cobb Funeral Home and Crematory Chapel 2480 Macland Rd Sw  
	Marietta GA 30064
GEO:33.9011974;-84.6255664
END:VEVENT
END:VCALENDAR