BEGIN:VCALENDAR
VERSION:2.0
PRODID:-//Tukios.com/
BEGIN:VEVENT
UID:f50cf57b-6e2a-4f41-81ce-86c92f491141@www.westcobbfuneralhome.com
DTSTAMP:20260424T003349Z
DTSTART:20260516T140000Z
DTEND:20260516T150000Z
SUMMARY:Visitation
DESCRIPTION:
URL:https://www.westcobbfuneralhome.com/obituaries/hugh-bradley
LOCATION:West Cobb Funeral Home and Crematory 2480 Macland Rd Sw  
	Marietta GA 30064
GEO:33.9011974;-84.6255664
END:VEVENT
END:VCALENDAR