BEGIN:VCALENDAR
VERSION:2.0
PRODID:-//Tukios.com/
BEGIN:VEVENT
UID:ec884074-949a-4946-9f2f-4db5969c1abc@www.westcobbfuneralhome.com
DTSTAMP:20260424T003208Z
DTSTART:20260516T150000Z
DTEND:20260516T153000Z
SUMMARY:Celebration of Life
DESCRIPTION:
URL:https://www.westcobbfuneralhome.com/obituaries/hugh-bradley
LOCATION:West Cobb Funeral Home and Crematory Chapel 2480 Macland Rd Sw  
	Marietta GA 30064
GEO:33.9011974;-84.6255664
END:VEVENT
END:VCALENDAR