BEGIN:VCALENDAR
VERSION:2.0
PRODID:-//Tukios.com/
BEGIN:VEVENT
UID:537bda38-61ad-49d8-b97a-2b61d381ffbc@www.westcobbfuneralhome.com
DTSTAMP:20260421T200214Z
DTSTART:20260426T210000Z
DTEND:20260426T220000Z
SUMMARY:Visitation
DESCRIPTION:
URL:https://www.westcobbfuneralhome.com/obituaries/beth-gichero
LOCATION:West Cobb Funeral Home and Crematory 2480 Macland Rd Sw  
	Marietta GA 30064
GEO:33.9011974;-84.6255664
END:VEVENT
END:VCALENDAR