BEGIN:VCALENDAR
VERSION:2.0
PRODID:-//Tukios.com/
BEGIN:VEVENT
UID:b7bcbbe4-5fca-4b4b-ad05-40fd1aa54f3f@www.westcobbfuneralhome.com
DTSTAMP:20260424T165233Z
DTSTART:20260427T150000Z
DTEND:20260427T160000Z
SUMMARY:Visitation
DESCRIPTION:
URL:https://www.westcobbfuneralhome.com/obituaries/audrey-tarvin
LOCATION:West Cobb Funeral Home and Crematory 2480 Macland Rd Sw  
	Marietta GA 30064
GEO:33.9011974;-84.6255664
END:VEVENT
END:VCALENDAR