BEGIN:VCALENDAR
VERSION:2.0
PRODID:-//Tukios.com/
BEGIN:VEVENT
UID:584df263-31b5-463a-b355-e816f7f7d358@www.westcobbfuneralhome.com
DTSTAMP:20260424T165223Z
DTSTART:20260427T160000Z
DTEND:20260427T170000Z
SUMMARY:Memorial Service
DESCRIPTION:
URL:https://www.westcobbfuneralhome.com/obituaries/audrey-tarvin
LOCATION:West Cobb Funeral Home and Crematory 2480 Macland Rd Sw  
	Marietta GA 30064
GEO:33.9011974;-84.6255664
END:VEVENT
END:VCALENDAR