BEGIN:VCALENDAR
VERSION:2.0
PRODID:-//Tukios.com/
BEGIN:VEVENT
UID:b5f3f596-5d81-482f-a0dc-366ebf52e6de@www.westcobbfuneralhome.com
DTSTAMP:20260424T164937Z
DTSTART:20260427T180000Z
DTEND:20260427T183000Z
SUMMARY:Graveside Service
DESCRIPTION:
URL:https://www.westcobbfuneralhome.com/obituaries/audrey-tarvin
LOCATION:Westview Cemetery 1680 Westview Drive, SW  Atlanta GA 30310
GEO:33.7464358;-84.4421993
END:VEVENT
END:VCALENDAR