BEGIN:VCALENDAR
VERSION:2.0
PRODID:-//Tukios.com/
BEGIN:VEVENT
UID:95aa67e2-b1cd-4838-ab48-2755a02635c5@www.westcobbfuneralhome.com
DTSTAMP:20260424T003157Z
DTSTART:20260504T190000Z
DTEND:20260504T200000Z
SUMMARY:Burial
DESCRIPTION:
URL:https://www.westcobbfuneralhome.com/obituaries/alice-brigance
LOCATION: 1306 Whitlock Avenue Southwest  Marietta GA 30064
GEO:33.9491088;-84.5906742
END:VEVENT
END:VCALENDAR