BEGIN:VCALENDAR
VERSION:2.0
PRODID:-//Tukios.com/
BEGIN:VEVENT
UID:5237dae2-e826-4d5d-b23e-e898609e5684@www.westcobbfuneralhome.com
DTSTAMP:20260424T003202Z
DTSTART:20260504T180000Z
DTEND:20260504T190000Z
SUMMARY:Funeral Service
DESCRIPTION:
URL:https://www.westcobbfuneralhome.com/obituaries/alice-brigance
LOCATION: 2480 Macland Road  Marietta GA 30064
GEO:33.9011974;-84.6255664
END:VEVENT
END:VCALENDAR