BEGIN:VCALENDAR
VERSION:2.0
PRODID:-//Tukios.com/
BEGIN:VEVENT
UID:9cdbfb2b-7f5a-4428-a015-71f3a4271e93@www.westcobbfuneralhome.com
DTSTAMP:20260424T003507Z
DTSTART:20260504T160000Z
DTEND:20260504T180000Z
SUMMARY:Visitation
DESCRIPTION:
URL:https://www.westcobbfuneralhome.com/obituaries/alice-brigance
LOCATION: 2480 Macland Road  Marietta GA 30064
GEO:33.9011974;-84.6255664
END:VEVENT
END:VCALENDAR